BEGIN:VCALENDAR
VERSION:2.0
PRODID:-//Leadership Northeast - ECPv5.1.6//NONSGML v1.0//EN
CALSCALE:GREGORIAN
METHOD:PUBLISH
X-WR-CALNAME:Leadership Northeast
X-ORIGINAL-URL:https://leadershipnortheast.org
X-WR-CALDESC:Events for Leadership Northeast
BEGIN:VTIMEZONE
TZID:UTC
BEGIN:STANDARD
TZOFFSETFROM:+0000
TZOFFSETTO:+0000
TZNAME:UTC
DTSTART:20200101T000000
END:STANDARD
END:VTIMEZONE
BEGIN:VEVENT
DTSTART;TZID=UTC:20200201T093000
DTEND;TZID=UTC:20200201T190000
DTSTAMP:20260420T162758
CREATED:20200117T233735Z
LAST-MODIFIED:20200117T234707Z
UID:2659-1580549400-1580583600@leadershipnortheast.org
SUMMARY:2nd Annual World Cancer Day
DESCRIPTION:
URL:https://leadershipnortheast.org/event/2nd-annual-world-cancer-day/
LOCATION:Candy’s Place\, 190 Welles St.\, Suite 166\, Forty Fort\, PA\, 18704\, United States
ATTACH;FMTTYPE=image/jpeg:https://leadershipnortheast.org/wp-content/uploads/2020/01/Candys-Place-Fundraiser1.jpg
ORGANIZER;CN="Leadership%20Wilkes-Barre":MAILTO:info@leadershipnortheast.org
END:VEVENT
END:VCALENDAR