BEGIN:VCALENDAR
VERSION:2.0
PRODID:-//Leadership Northeast - ECPv5.1.6//NONSGML v1.0//EN
CALSCALE:GREGORIAN
METHOD:PUBLISH
X-WR-CALNAME:Leadership Northeast
X-ORIGINAL-URL:https://leadershipnortheast.org
X-WR-CALDESC:Events for Leadership Northeast
BEGIN:VTIMEZONE
TZID:UTC
BEGIN:STANDARD
TZOFFSETFROM:+0000
TZOFFSETTO:+0000
TZNAME:UTC
DTSTART:20200101T000000
END:STANDARD
END:VTIMEZONE
BEGIN:VEVENT
DTSTART;TZID=UTC:20200109T170000
DTEND;TZID=UTC:20200109T190000
DTSTAMP:20260420T212647
CREATED:20200103T012152Z
LAST-MODIFIED:20200103T012152Z
UID:2553-1578589200-1578596400@leadershipnortheast.org
SUMMARY:After 5
DESCRIPTION:Join us for “After 5” this month at The Down Pour!
URL:https://leadershipnortheast.org/event/after-5/
LOCATION:The Down Pour\, 119 S. Main St.\, Wilkes-Barre\, PA\, 18701\, United States
ATTACH;FMTTYPE=image/png:https://leadershipnortheast.org/wp-content/uploads/2020/01/Downpour.png
ORGANIZER;CN="Leadership%20Wilkes-Barre":MAILTO:info@leadershipnortheast.org
END:VEVENT
END:VCALENDAR