BEGIN:VCALENDAR
VERSION:2.0
PRODID:-//Leadership Northeast - ECPv5.1.6//NONSGML v1.0//EN
CALSCALE:GREGORIAN
METHOD:PUBLISH
X-WR-CALNAME:Leadership Northeast
X-ORIGINAL-URL:https://leadershipnortheast.org
X-WR-CALDESC:Events for Leadership Northeast
BEGIN:VTIMEZONE
TZID:America/New_York
BEGIN:DAYLIGHT
TZOFFSETFROM:-0500
TZOFFSETTO:-0400
TZNAME:EDT
DTSTART:20220313T070000
END:DAYLIGHT
BEGIN:STANDARD
TZOFFSETFROM:-0400
TZOFFSETTO:-0500
TZNAME:EST
DTSTART:20221106T060000
END:STANDARD
END:VTIMEZONE
BEGIN:VEVENT
DTSTART;TZID=America/New_York:20221027T130000
DTEND;TZID=America/New_York:20221027T160000
DTSTAMP:20260420T042351
CREATED:20221004T155517Z
LAST-MODIFIED:20221004T155517Z
UID:4206-1666875600-1666886400@leadershipnortheast.org
SUMMARY:Amplify Exploring Whole Person Well-Being Program
DESCRIPTION:
URL:https://leadershipnortheast.org/event/amplify-exploring-whole-person-well-being-program/
LOCATION:The Salt Barre
END:VEVENT
END:VCALENDAR