BEGIN:VCALENDAR
VERSION:2.0
PRODID:-//Leadership Northeast - ECPv5.1.6//NONSGML v1.0//EN
CALSCALE:GREGORIAN
METHOD:PUBLISH
X-WR-CALNAME:Leadership Northeast
X-ORIGINAL-URL:https://leadershipnortheast.org
X-WR-CALDESC:Events for Leadership Northeast
BEGIN:VTIMEZONE
TZID:America/New_York
BEGIN:DAYLIGHT
TZOFFSETFROM:-0500
TZOFFSETTO:-0400
TZNAME:EDT
DTSTART:20220313T070000
END:DAYLIGHT
BEGIN:STANDARD
TZOFFSETFROM:-0400
TZOFFSETTO:-0500
TZNAME:EST
DTSTART:20221106T060000
END:STANDARD
END:VTIMEZONE
BEGIN:VEVENT
DTSTART;TZID=America/New_York:20221108T090000
DTEND;TZID=America/New_York:20221108T120000
DTSTAMP:20260420T010339
CREATED:20221004T160557Z
LAST-MODIFIED:20221004T160557Z
UID:4215-1667898000-1667908800@leadershipnortheast.org
SUMMARY:Amplify Real Time Challenges Program
DESCRIPTION:
URL:https://leadershipnortheast.org/event/amplify-real-time-challenges-program/
LOCATION:Union and Main
END:VEVENT
END:VCALENDAR