BEGIN:VCALENDAR
VERSION:2.0
PRODID:-//Leadership Northeast - ECPv5.1.6//NONSGML v1.0//EN
CALSCALE:GREGORIAN
METHOD:PUBLISH
X-WR-CALNAME:Leadership Northeast
X-ORIGINAL-URL:https://leadershipnortheast.org
X-WR-CALDESC:Events for Leadership Northeast
BEGIN:VTIMEZONE
TZID:UTC
BEGIN:STANDARD
TZOFFSETFROM:+0000
TZOFFSETTO:+0000
TZNAME:UTC
DTSTART:20190101T000000
END:STANDARD
END:VTIMEZONE
BEGIN:VEVENT
DTSTART;TZID=UTC:20190427T140000
DTEND;TZID=UTC:20190427T150000
DTSTAMP:20260423T081327
CREATED:20190417T010914Z
LAST-MODIFIED:20190417T010929Z
UID:2113-1556373600-1556377200@leadershipnortheast.org
SUMMARY:Baskets for New Beginnings Fundraiser
DESCRIPTION:A one hour self defense class presented by the Junior Leadership Wilkes-Barre group\, Baskets for New Beginnings. This class is $20 and all proceeds benefit the project for the Domestic Violence Service Center. The group is filling baskets with household items to present to residents leaving the center when they are entering their new homes.
URL:https://leadershipnortheast.org/event/baskets-for-new-beginnings-fundraiser-2/
LOCATION:Huntzinger’s Karate\, 738 Wilkes-Barre Township Blvd.\, Wilkes-Barre\, PA\, 18702
ATTACH;FMTTYPE=image/jpeg:https://leadershipnortheast.org/wp-content/uploads/2019/02/Junior-Leadeship-Wilkes-Barre.jpg
ORGANIZER;CN="Leadership%20Wilkes-Barre":MAILTO:info@leadershipnortheast.org
END:VEVENT
END:VCALENDAR