BEGIN:VCALENDAR
VERSION:2.0
PRODID:-//Leadership Northeast - ECPv5.1.6//NONSGML v1.0//EN
CALSCALE:GREGORIAN
METHOD:PUBLISH
X-WR-CALNAME:Leadership Northeast
X-ORIGINAL-URL:https://leadershipnortheast.org
X-WR-CALDESC:Events for Leadership Northeast
BEGIN:VTIMEZONE
TZID:UTC
BEGIN:STANDARD
TZOFFSETFROM:+0000
TZOFFSETTO:+0000
TZNAME:UTC
DTSTART:20190101T000000
END:STANDARD
END:VTIMEZONE
BEGIN:VEVENT
DTSTART;TZID=UTC:20190613T110000
DTEND;TZID=UTC:20190613T130000
DTSTAMP:20260421T010446
CREATED:20190606T001102Z
LAST-MODIFIED:20190606T001102Z
UID:2192-1560423600-1560430800@leadershipnortheast.org
SUMMARY:Dressed to the 9's Ribbon Cutting at Dress for Success
DESCRIPTION:Please join us for an unveiling of Dress for Success Luzerne County’s new signage and revamp. Lite refreshments will be served. Ribbon cutting begins at noon.
URL:https://leadershipnortheast.org/event/dressed-to-the-9s-ribbon-cutting-at-dress-for-success/
LOCATION:Dress for Success Luzerne County\, 38 W. Market St.\, Wilkes-Barre\, PA\, 18702
ATTACH;FMTTYPE=image/jpeg:https://leadershipnortheast.org/wp-content/uploads/2019/06/DFS_LuzerneCounty-web.jpg
ORGANIZER;CN="Leadership%20Wilkes-Barre":MAILTO:info@leadershipnortheast.org
END:VEVENT
END:VCALENDAR