BEGIN:VCALENDAR
VERSION:2.0
PRODID:-//Leadership Northeast - ECPv5.1.6//NONSGML v1.0//EN
CALSCALE:GREGORIAN
METHOD:PUBLISH
X-WR-CALNAME:Leadership Northeast
X-ORIGINAL-URL:https://leadershipnortheast.org
X-WR-CALDESC:Events for Leadership Northeast
BEGIN:VTIMEZONE
TZID:UTC
BEGIN:STANDARD
TZOFFSETFROM:+0000
TZOFFSETTO:+0000
TZNAME:UTC
DTSTART:20200101T000000
END:STANDARD
END:VTIMEZONE
BEGIN:VEVENT
DTSTART;TZID=UTC:20200124T190000
DTEND;TZID=UTC:20200124T210000
DTSTAMP:20260420T194211
CREATED:20200103T010039Z
LAST-MODIFIED:20200117T235140Z
UID:2545-1579892400-1579899600@leadershipnortheast.org
SUMMARY:Fostering Magic Fundraiser
DESCRIPTION:
URL:https://leadershipnortheast.org/event/fostering-magic-fundraiser/
LOCATION:Senunas’ Bar and Grill\, 133 N. Main St.\, Wilkes-Barre\, PA\, 18701\, United States
ATTACH;FMTTYPE=image/jpeg:https://leadershipnortheast.org/wp-content/uploads/2020/01/Fostering-Magic-Fundraiser.jpg
ORGANIZER;CN="Leadership%20Wilkes-Barre":MAILTO:info@leadershipnortheast.org
END:VEVENT
END:VCALENDAR