BEGIN:VCALENDAR
VERSION:2.0
PRODID:-//Leadership Northeast - ECPv5.1.6//NONSGML v1.0//EN
CALSCALE:GREGORIAN
METHOD:PUBLISH
X-WR-CALNAME:Leadership Northeast
X-ORIGINAL-URL:https://leadershipnortheast.org
X-WR-CALDESC:Events for Leadership Northeast
BEGIN:VTIMEZONE
TZID:America/New_York
BEGIN:DAYLIGHT
TZOFFSETFROM:-0500
TZOFFSETTO:-0400
TZNAME:EDT
DTSTART:20220313T070000
END:DAYLIGHT
BEGIN:STANDARD
TZOFFSETFROM:-0400
TZOFFSETTO:-0500
TZNAME:EST
DTSTART:20221106T060000
END:STANDARD
END:VTIMEZONE
BEGIN:VEVENT
DTSTART;TZID=America/New_York:20221018T080000
DTEND;TZID=America/New_York:20221018T150000
DTSTAMP:20260420T061004
CREATED:20221004T154907Z
LAST-MODIFIED:20221004T154907Z
UID:4203-1666080000-1666105200@leadershipnortheast.org
SUMMARY:Impact Effective Communication for Leaders Program
DESCRIPTION:
URL:https://leadershipnortheast.org/event/impact-effective-communication-for-leaders-program/
LOCATION:Misericordia University
END:VEVENT
END:VCALENDAR