BEGIN:VCALENDAR
VERSION:2.0
PRODID:-//Leadership Northeast - ECPv5.1.6//NONSGML v1.0//EN
CALSCALE:GREGORIAN
METHOD:PUBLISH
X-WR-CALNAME:Leadership Northeast
X-ORIGINAL-URL:https://leadershipnortheast.org
X-WR-CALDESC:Events for Leadership Northeast
BEGIN:VTIMEZONE
TZID:America/New_York
BEGIN:DAYLIGHT
TZOFFSETFROM:-0500
TZOFFSETTO:-0400
TZNAME:EDT
DTSTART:20220313T070000
END:DAYLIGHT
BEGIN:STANDARD
TZOFFSETFROM:-0400
TZOFFSETTO:-0500
TZNAME:EST
DTSTART:20221106T060000
END:STANDARD
END:VTIMEZONE
BEGIN:VEVENT
DTSTART;TZID=America/New_York:20221115T070000
DTEND;TZID=America/New_York:20221115T170000
DTSTAMP:20260419T231647
CREATED:20221004T163219Z
LAST-MODIFIED:20221004T163219Z
UID:4229-1668495600-1668531600@leadershipnortheast.org
SUMMARY:Impact Logic Study: PA Department of Education
DESCRIPTION:
URL:https://leadershipnortheast.org/event/impact-logic-study-pa-department-of-education/
LOCATION:PA Capitol Building
END:VEVENT
END:VCALENDAR