BEGIN:VCALENDAR
VERSION:2.0
PRODID:-//Leadership Northeast - ECPv5.1.6//NONSGML v1.0//EN
CALSCALE:GREGORIAN
METHOD:PUBLISH
X-WR-CALNAME:Leadership Northeast
X-ORIGINAL-URL:https://leadershipnortheast.org
X-WR-CALDESC:Events for Leadership Northeast
BEGIN:VTIMEZONE
TZID:UTC
BEGIN:STANDARD
TZOFFSETFROM:+0000
TZOFFSETTO:+0000
TZNAME:UTC
DTSTART:20200101T000000
END:STANDARD
END:VTIMEZONE
BEGIN:VEVENT
DTSTART;TZID=UTC:20200126T150000
DTEND;TZID=UTC:20200126T180000
DTSTAMP:20260420T175622
CREATED:20200103T005607Z
LAST-MODIFIED:20200117T235059Z
UID:2541-1580050800-1580061600@leadershipnortheast.org
SUMMARY:Keystone Generations Fundraiser
DESCRIPTION:
URL:https://leadershipnortheast.org/event/keystone-generations-fundraiser/
LOCATION:Benny Brewing Company\, 1429 Sans Souci Parkway\, Wilkes-Barre\, PA\, 18706\, United States
ATTACH;FMTTYPE=image/jpeg:https://leadershipnortheast.org/wp-content/uploads/2020/01/Keystone-Mission-Fundraiser.jpg
ORGANIZER;CN="Leadership%20Wilkes-Barre":MAILTO:info@leadershipnortheast.org
END:VEVENT
END:VCALENDAR