BEGIN:VCALENDAR
VERSION:2.0
PRODID:-//Leadership Northeast - ECPv5.1.6//NONSGML v1.0//EN
CALSCALE:GREGORIAN
METHOD:PUBLISH
X-WR-CALNAME:Leadership Northeast
X-ORIGINAL-URL:https://leadershipnortheast.org
X-WR-CALDESC:Events for Leadership Northeast
BEGIN:VTIMEZONE
TZID:UTC
BEGIN:STANDARD
TZOFFSETFROM:+0000
TZOFFSETTO:+0000
TZNAME:UTC
DTSTART:20190101T000000
END:STANDARD
END:VTIMEZONE
BEGIN:VEVENT
DTSTART;TZID=UTC:20190814T153000
DTEND;TZID=UTC:20190814T173000
DTSTAMP:20260420T232632
CREATED:20190724T202007Z
LAST-MODIFIED:20190724T202007Z
UID:2306-1565796600-1565803800@leadershipnortheast.org
SUMMARY:Leaders with Vision: A Vision Board Goal Setting Workshop
DESCRIPTION:Join us on August 14th for Leaders with Vision: A Vision Board Goal Setting Workshop\, presented by our Greater Wilkes-Barre Chamber Women’s Network. Outline your personal and professional goals for 2019 and beyond through an interactive vision board development session\, as well as networking\, light fare\, and guest bartenders from our Women’s Network. \nThe vision board session will be facilitated by the team at Leadership Wilkes-Barre.
URL:https://leadershipnortheast.org/event/leaders-with-vision-a-vision-board-goal-setting-workshop/
LOCATION:Wilkes-Barre’s THINK Center\, 7 South Main St.\, Wilkes-Barre\, PA\, 18701\, United States
ATTACH;FMTTYPE=image/jpeg:https://leadershipnortheast.org/wp-content/uploads/2019/07/Vision-Board.jpg
END:VEVENT
END:VCALENDAR