BEGIN:VCALENDAR
VERSION:2.0
PRODID:-//Leadership Northeast - ECPv5.1.6//NONSGML v1.0//EN
CALSCALE:GREGORIAN
METHOD:PUBLISH
X-WR-CALNAME:Leadership Northeast
X-ORIGINAL-URL:https://leadershipnortheast.org
X-WR-CALDESC:Events for Leadership Northeast
BEGIN:VTIMEZONE
TZID:UTC
BEGIN:STANDARD
TZOFFSETFROM:+0000
TZOFFSETTO:+0000
TZNAME:UTC
DTSTART:20190101T000000
END:STANDARD
END:VTIMEZONE
BEGIN:VEVENT
DTSTART;TZID=UTC:20190502T170000
DTEND;TZID=UTC:20190502T180000
DTSTAMP:20260423T063828
CREATED:20190417T005440Z
LAST-MODIFIED:20190417T010023Z
UID:2102-1556816400-1556820000@leadershipnortheast.org
SUMMARY:Leadership After 5
DESCRIPTION:Come network with the Core class of 2019!
URL:https://leadershipnortheast.org/event/leadership-after-5/
LOCATION:Franklin’s\, 53 Public Square\, Wilkes-Barre\, PA\, 18701
ATTACH;FMTTYPE=image/jpeg:https://leadershipnortheast.org/wp-content/uploads/2019/04/Franklins.jpg
ORGANIZER;CN="Leadership%20Wilkes-Barre":MAILTO:info@leadershipnortheast.org
END:VEVENT
END:VCALENDAR