BEGIN:VCALENDAR
VERSION:2.0
PRODID:-//Leadership Northeast - ECPv5.1.6//NONSGML v1.0//EN
CALSCALE:GREGORIAN
METHOD:PUBLISH
X-WR-CALNAME:Leadership Northeast
X-ORIGINAL-URL:https://leadershipnortheast.org
X-WR-CALDESC:Events for Leadership Northeast
BEGIN:VTIMEZONE
TZID:America/New_York
BEGIN:DAYLIGHT
TZOFFSETFROM:-0500
TZOFFSETTO:-0400
TZNAME:EDT
DTSTART:20220313T070000
END:DAYLIGHT
BEGIN:STANDARD
TZOFFSETFROM:-0400
TZOFFSETTO:-0500
TZNAME:EST
DTSTART:20221106T060000
END:STANDARD
END:VTIMEZONE
BEGIN:VEVENT
DTSTART;TZID=America/New_York:20220422T170000
DTEND;TZID=America/New_York:20220422T200000
DTSTAMP:20260420T125740
CREATED:20220307T173904Z
LAST-MODIFIED:20220321T170937Z
UID:3959-1650646800-1650657600@leadershipnortheast.org
SUMMARY:Leadership Northeast Cocktail Party and Virtual Auction
DESCRIPTION:You’re invited to join Leadership Northeast friends and alumni at our Cocktail Party on Friday\, April 22 at the Westmoreland Club and enjoy participating in our first Virtual Auction. We’ll have many unique items and experience available. \nPlus\, purchase your Get Out of Town tickets for a chance to win one of five exciting trips! \n\n\nMake a Donation\nCocktail Party Tickets\nGet Out of Town Tickets and Virtual Auction\n 
URL:https://leadershipnortheast.org/event/leadership-northeast-cocktail-party-and-virtual-auction/
LOCATION:Westmoreland Club\, 59 S. Franklin St.\, Wilkes-Barre\, PA\, 18701\, United States
END:VEVENT
END:VCALENDAR