BEGIN:VCALENDAR
VERSION:2.0
PRODID:-//Leadership Northeast - ECPv5.1.6//NONSGML v1.0//EN
CALSCALE:GREGORIAN
METHOD:PUBLISH
X-WR-CALNAME:Leadership Northeast
X-ORIGINAL-URL:https://leadershipnortheast.org
X-WR-CALDESC:Events for Leadership Northeast
BEGIN:VTIMEZONE
TZID:UTC
BEGIN:STANDARD
TZOFFSETFROM:+0000
TZOFFSETTO:+0000
TZNAME:UTC
DTSTART:20190101T000000
END:STANDARD
END:VTIMEZONE
BEGIN:VEVENT
DTSTART;TZID=UTC:20190517T170000
DTEND;TZID=UTC:20190517T173000
DTSTAMP:20260423T063943
CREATED:20190523T194832Z
LAST-MODIFIED:20190523T194832Z
UID:2176-1558112400-1558114200@leadershipnortheast.org
SUMMARY:Learning with Books: A Little Free Library Project Ribbon Cutting
DESCRIPTION:Join Learning with Books: A Little Free Library Project for a ribbon cutting on Public Square in Wilkes-Barre.
URL:https://leadershipnortheast.org/event/learning-with-books-a-little-free-library-project-ribbon-cutting-3/
ORGANIZER;CN="Leadership%20Wilkes-Barre":MAILTO:info@leadershipnortheast.org
END:VEVENT
END:VCALENDAR