BEGIN:VCALENDAR
VERSION:2.0
PRODID:-//Leadership Northeast - ECPv5.1.6//NONSGML v1.0//EN
CALSCALE:GREGORIAN
METHOD:PUBLISH
X-WR-CALNAME:Leadership Northeast
X-ORIGINAL-URL:https://leadershipnortheast.org
X-WR-CALDESC:Events for Leadership Northeast
BEGIN:VTIMEZONE
TZID:UTC
BEGIN:STANDARD
TZOFFSETFROM:+0000
TZOFFSETTO:+0000
TZNAME:UTC
DTSTART:20190101T000000
END:STANDARD
END:VTIMEZONE
BEGIN:VEVENT
DTSTART;TZID=UTC:20190511T110000
DTEND;TZID=UTC:20190511T113000
DTSTAMP:20260423T050254
CREATED:20190523T195055Z
LAST-MODIFIED:20190523T195055Z
UID:2178-1557572400-1557574200@leadershipnortheast.org
SUMMARY:Learning with Books: A Little Free Library Project Ribbon Cutting
DESCRIPTION:Join Learning with Books: A Little Free Library Project for a ribbon cutting at Quality Hill Park in Nanticoke.
URL:https://leadershipnortheast.org/event/learning-with-books-a-little-free-library-project-ribbon-cutting-4/
LOCATION:Quality Hill Park\, Hill St.\, Nanticoke\, PA\, 18634
ATTACH;FMTTYPE=image/jpeg:https://leadershipnortheast.org/wp-content/uploads/2019/05/Learning-with-Books-logo-2.jpg
ORGANIZER;CN="Leadership%20Wilkes-Barre":MAILTO:info@leadershipnortheast.org
END:VEVENT
END:VCALENDAR