BEGIN:VCALENDAR
VERSION:2.0
PRODID:-//Leadership Northeast - ECPv5.1.6//NONSGML v1.0//EN
CALSCALE:GREGORIAN
METHOD:PUBLISH
X-WR-CALNAME:Leadership Northeast
X-ORIGINAL-URL:https://leadershipnortheast.org
X-WR-CALDESC:Events for Leadership Northeast
BEGIN:VTIMEZONE
TZID:America/New_York
BEGIN:DAYLIGHT
TZOFFSETFROM:-0500
TZOFFSETTO:-0400
TZNAME:EDT
DTSTART:20210314T070000
END:DAYLIGHT
BEGIN:STANDARD
TZOFFSETFROM:-0400
TZOFFSETTO:-0500
TZNAME:EST
DTSTART:20211107T060000
END:STANDARD
END:VTIMEZONE
BEGIN:VEVENT
DTSTART;TZID=America/New_York:20210610T170000
DTEND;TZID=America/New_York:20210610T210000
DTSTAMP:20260420T144034
CREATED:20210504T190155Z
LAST-MODIFIED:20210609T163853Z
UID:3532-1623344400-1623358800@leadershipnortheast.org
SUMMARY:LWB Graduation Celebration
DESCRIPTION:Silver Sponsors\n \n\n\n  \n  \n  \nBronze Sponsors\n \n\n\n  \n  \n  \n\n  \n \n  \n  \n  \n  \n  \nFriend Sponsors\n \n \n \n  \n  \n  \n  \n 
URL:https://leadershipnortheast.org/event/lwb-graduation-celebration/
LOCATION:The Banks Waterfront\, 304 Kennedy Blvd.\, Pittston\, PA\, 18640\, United States
ORGANIZER;CN="Leadership%20Wilkes-Barre":MAILTO:info@leadershipnortheast.org
END:VEVENT
END:VCALENDAR