BEGIN:VCALENDAR
VERSION:2.0
PRODID:-//Leadership Northeast - ECPv5.1.6//NONSGML v1.0//EN
CALSCALE:GREGORIAN
METHOD:PUBLISH
X-WR-CALNAME:Leadership Northeast
X-ORIGINAL-URL:https://leadershipnortheast.org
X-WR-CALDESC:Events for Leadership Northeast
BEGIN:VTIMEZONE
TZID:UTC
BEGIN:STANDARD
TZOFFSETFROM:+0000
TZOFFSETTO:+0000
TZNAME:UTC
DTSTART:20190101T000000
END:STANDARD
END:VTIMEZONE
BEGIN:VEVENT
DTSTART;TZID=UTC:20190504T120000
DTEND;TZID=UTC:20190504T150000
DTSTAMP:20260423T081703
CREATED:20190417T005947Z
LAST-MODIFIED:20190417T005947Z
UID:2106-1556971200-1556982000@leadershipnortheast.org
SUMMARY:PAWS in the PARK - Family Fun Day
DESCRIPTION:Bring your family for a day of fun including music\, face painting\, Disney characters meet & greet\, games\, raffle baskets\, puppies\, and more! \nThis event is free of charge\, brought to you by the Junior Leadership Wilkes-Barre Program Class of 2019. \nAll donations are directly given to the charity Pawsabilities\, an organization raising puppies for the blind.
URL:https://leadershipnortheast.org/event/paws-in-the-park-family-fun-day/
LOCATION:Kirby Park\, 160 Market St.\, Wilkes-Barre\, PA\, 18704
ATTACH;FMTTYPE=image/jpeg:https://leadershipnortheast.org/wp-content/uploads/2019/04/paws.jpg
ORGANIZER;CN="Leadership%20Wilkes-Barre":MAILTO:info@leadershipnortheast.org
END:VEVENT
END:VCALENDAR