BEGIN:VCALENDAR
VERSION:2.0
PRODID:-//Leadership Northeast - ECPv5.1.6//NONSGML v1.0//EN
CALSCALE:GREGORIAN
METHOD:PUBLISH
X-WR-CALNAME:Leadership Northeast
X-ORIGINAL-URL:https://leadershipnortheast.org
X-WR-CALDESC:Events for Leadership Northeast
BEGIN:VTIMEZONE
TZID:UTC
BEGIN:STANDARD
TZOFFSETFROM:+0000
TZOFFSETTO:+0000
TZNAME:UTC
DTSTART:20190101T000000
END:STANDARD
END:VTIMEZONE
BEGIN:VEVENT
DTSTART;TZID=UTC:20190817T160000
DTEND;TZID=UTC:20190817T180000
DTSTAMP:20260420T194652
CREATED:20190801T211859Z
LAST-MODIFIED:20190801T212011Z
UID:2340-1566057600-1566064800@leadershipnortheast.org
SUMMARY:Wyoming Valley Challengers 1st Game at Evercor Field
DESCRIPTION:It’s been a monumental effort but Evercor Field\, the new home of the Wyo. Valley Challenger (formerly The Bog)\, is ready to for the kids first game. Come join in celebrating this moment and to see the smiles on their faces
URL:https://leadershipnortheast.org/event/wyoming-valley-challengers-1st-game-at-evercor-field/
LOCATION:Evercor Field\, 65 Dewey Lane\, Wilkes- Barre
ATTACH;FMTTYPE=image/png:https://leadershipnortheast.org/wp-content/uploads/2019/08/Leaders-in-Outfield.png
ORGANIZER;CN="Leadership%20Wilkes-Barre":MAILTO:info@leadershipnortheast.org
END:VEVENT
END:VCALENDAR